BEGIN:VCALENDAR
VERSION:2.0
PRODID: -//Q4 Inc.//EN
METHOD:PUBLISH
BEGIN:VTIMEZONE
TZID:America/New_York
X-LIC-LOCATION:America/New_York
BEGIN:DAYLIGHT
TZOFFSETFROM:-0500
TZOFFSETTO:-0400
TZNAME:EDT
DTSTART:19700308T020000
RRULE:FREQ=YEARLY;BYMONTH=3;BYDAY=2SU
END:DAYLIGHT
BEGIN:STANDARD
TZOFFSETFROM:-0400
TZOFFSETTO:-0500
TZNAME:EST
DTSTART:19701101T020000
RRULE:FREQ=YEARLY;BYMONTH=11;BYDAY=1SU
END:STANDARD
END:VTIMEZONE
BEGIN:VEVENT
ORGANIZER:MAILTO:no-reply@q4inc.com
DTSTART;TZID="America/New_York":20260519T100000
DTEND;TZID="America/New_York":20260519T110000
LOCATION:Sawmill Creek by Cedar Point Resorts, 400 Sawmill Creek Drive, Huron, Ohio  44839
UID:16d6947b-3a82-4f90-8755-a6980d106d56
DTSTAMP:20260423T233109
SUMMARY:Annual Meeting of the Civista Bancshares, Inc. Shareholders
DESCRIPTION: View More Information: https://civb.com/events-and-presentations/event-details/2026/Annual-Meeting-Placeholder/default.aspx
URL;VALUE=URI:https://civb.com/events-and-presentations/event-details/2026/Annual-Meeting-Placeholder/default.aspx
PRIORITY:5
CLASS:PUBLIC
END:VEVENT
END:VCALENDAR
